BEGIN:VCALENDAR
VERSION:2.0
PRODID:-//MedBikE - ECPv6.9.0//NONSGML v1.0//EN
CALSCALE:GREGORIAN
METHOD:PUBLISH
X-WR-CALNAME:MedBikE
X-ORIGINAL-URL:https://www.medbike.com.pl
X-WR-CALDESC:Events for MedBikE
REFRESH-INTERVAL;VALUE=DURATION:PT1H
X-Robots-Tag:noindex
X-PUBLISHED-TTL:PT1H
BEGIN:VTIMEZONE
TZID:Europe/Warsaw
BEGIN:DAYLIGHT
TZOFFSETFROM:+0100
TZOFFSETTO:+0200
TZNAME:CEST
DTSTART:20150329T010000
END:DAYLIGHT
BEGIN:STANDARD
TZOFFSETFROM:+0200
TZOFFSETTO:+0100
TZNAME:CET
DTSTART:20151025T010000
END:STANDARD
END:VTIMEZONE
BEGIN:VEVENT
DTSTART;TZID=Europe/Warsaw:20150220T110000
DTEND;TZID=Europe/Warsaw:20150220T140000
DTSTAMP:20260420T023158
CREATED:20150203T201037Z
LAST-MODIFIED:20160302T102337Z
UID:51-1424430000-1424440800@www.medbike.com.pl
SUMMARY:Szkolenie z Pierwszej Pomocy Przedmedycznej
DESCRIPTION:
URL:https://www.medbike.com.pl/wydarzenia/pierwsza-pomoc-przedmedyczna/
LOCATION:Hotel EUROPA\, 1 maja 16/18\, Jelenia Góra
CATEGORIES:Szkolenia podstawowe
END:VEVENT
END:VCALENDAR